BEGIN:VCALENDAR
VERSION:2.0
PRODID:-//Tukios.com/
BEGIN:VEVENT
UID:3cc5d43e-1a43-474d-b1ce-05b97ba1e174@www.loutzenhiserfuneralhomes.com
DTSTAMP:20260423T015857Z
DTSTART:20260509T180000Z
DTEND:20260509T210000Z
SUMMARY:Celebration of Life
DESCRIPTION:
URL:https://www.loutzenhiserfuneralhomes.com/obituaries/rodney-splitstone
LOCATION:Jamestown Firemen’s Club 501 Denver Street  Jamestown PA 16134
GEO:41.4890705;-80.4423092
END:VEVENT
END:VCALENDAR