BEGIN:VCALENDAR
VERSION:2.0
PRODID:-//Tukios.com/
BEGIN:VEVENT
UID:b23db9c0-0264-4b39-a1a9-6ae6e5d03d8b@www.loutzenhiserfuneralhomes.com
DTSTAMP:20260424T015106Z
DTSTART:20260427T170000Z
DTEND:20260427T180000Z
SUMMARY:Visitation
DESCRIPTION:
URL:https://www.loutzenhiserfuneralhomes.com/obituaries/patricia-hill
LOCATION:Loutzenhiser-Randall Funeral Home and Cremation Services 416 
	Liberty Street  Jamestown PA 16134
GEO:41.4848235;-80.4357268
END:VEVENT
END:VCALENDAR