BEGIN:VCALENDAR
VERSION:2.0
PRODID:-//Tukios.com/
BEGIN:VEVENT
UID:ade23da7-fd28-44b7-98cf-1519bbf7c280@www.loutzenhiserfuneralhomes.com
DTSTAMP:20260424T014923Z
DTSTART:20260427T180000Z
DTEND:20260427T190000Z
SUMMARY:Funeral Service
DESCRIPTION:
URL:https://www.loutzenhiserfuneralhomes.com/obituaries/patricia-hill
LOCATION:Loutzenhiser-Randall Funeral Home and Cremation Services 416 
	Liberty Street  Jamestown PA 16134
GEO:41.4848235;-80.4357268
END:VEVENT
END:VCALENDAR