BEGIN:VCALENDAR
VERSION:2.0
PRODID:-//Tukios.com/
BEGIN:VEVENT
UID:dd916126-43f7-4ea8-9d08-27085315b18f@www.loutzenhiserfuneralhomes.com
DTSTAMP:20260421T224558Z
DTSTART:20260425T140000Z
DTEND:20260425T150000Z
SUMMARY:Visitation
DESCRIPTION:
URL:https://www.loutzenhiserfuneralhomes.com/obituaries/mary-simons
LOCATION:Lakeside Evangelical Congregational Church 3203 North Hermitage 
	Road  Transfer PA 16154
GEO:41.300828;-80.4236046
END:VEVENT
END:VCALENDAR