BEGIN:VCALENDAR
VERSION:2.0
PRODID:-//Tukios.com/
BEGIN:VEVENT
UID:5be02330-ebba-45a5-a583-e50377dfe7a9@www.loutzenhiserfuneralhomes.com
DTSTAMP:20260421T224552Z
DTSTART:20260425T150000Z
DTEND:20260425T160000Z
SUMMARY:Celebration of Life
DESCRIPTION:
URL:https://www.loutzenhiserfuneralhomes.com/obituaries/mary-simons
LOCATION:Lakeside Evangelical Congregational Church 3203 North Hermitage 
	Road  Transfer PA 16154
GEO:41.300828;-80.4236046
END:VEVENT
END:VCALENDAR